BEGIN:VCALENDAR
VERSION:2.0
PRODID:-//SI Mission Facility - ECPv6.15.17//NONSGML v1.0//EN
CALSCALE:GREGORIAN
METHOD:PUBLISH
X-ORIGINAL-URL:https://simissionfacility.eu
X-WR-CALDESC:Events for SI Mission Facility
REFRESH-INTERVAL;VALUE=DURATION:PT1H
X-Robots-Tag:noindex
X-PUBLISHED-TTL:PT1H
BEGIN:VTIMEZONE
TZID:Europe/Vienna
BEGIN:DAYLIGHT
TZOFFSETFROM:+0100
TZOFFSETTO:+0200
TZNAME:CEST
DTSTART:20250330T010000
END:DAYLIGHT
BEGIN:STANDARD
TZOFFSETFROM:+0200
TZOFFSETTO:+0100
TZNAME:CET
DTSTART:20251026T010000
END:STANDARD
BEGIN:DAYLIGHT
TZOFFSETFROM:+0100
TZOFFSETTO:+0200
TZNAME:CEST
DTSTART:20260329T010000
END:DAYLIGHT
BEGIN:STANDARD
TZOFFSETFROM:+0200
TZOFFSETTO:+0100
TZNAME:CET
DTSTART:20261025T010000
END:STANDARD
BEGIN:DAYLIGHT
TZOFFSETFROM:+0100
TZOFFSETTO:+0200
TZNAME:CEST
DTSTART:20270328T010000
END:DAYLIGHT
BEGIN:STANDARD
TZOFFSETFROM:+0200
TZOFFSETTO:+0100
TZNAME:CET
DTSTART:20271031T010000
END:STANDARD
END:VTIMEZONE
BEGIN:VEVENT
DTSTART;VALUE=DATE:20260527
DTEND;VALUE=DATE:20260530
DTSTAMP:20260419T223917
CREATED:20260312T152831Z
LAST-MODIFIED:20260312T152831Z
UID:4802-1779840000-1780099199@simissionfacility.eu
SUMMARY:Announcing the Cities Mission Conference 2026: Delivering Europe’s Urban Climate Transition
DESCRIPTION:The Cities Mission Conference 2026\, organised by the European Commission\, NetZeroCities and the City of Torino\, will take place from 27–29 May 2026 in Turin\, Italy. \nNow in its fifth edition\, this flagship event under the EU Mission: Climate‑Neutral and Smart Cities will bring together city leaders\, EU policymakers\, climate experts\, innovators and stakeholders to advance practical solutions for urban climate action. \nFocusing on mobilising climate finance\, strengthening multi‑level partnerships\, accelerating implementation and enhancing impact insights\, the conference prioritises peer learning\, best‑practice exchange and collaboration across Europe’s cities in transition. \nLive streaming of plenary sessions will be available; full programme details will be announced soon. \n  \nFor more information\, visit the official Cities Mission Conference page: https://netzerocities.eu/cities-mission-conference-2026/
URL:https://simissionfacility.eu/event/announcing-the-cities-mission-conference-2026-delivering-europes-urban-climate-transition/
CATEGORIES:Events focusing on EU missions
END:VEVENT
BEGIN:VEVENT
DTSTART;TZID=Europe/Vienna:20260527T100000
DTEND;TZID=Europe/Vienna:20260527T120000
DTSTAMP:20260419T223917
CREATED:20260305T125905Z
LAST-MODIFIED:20260305T133258Z
UID:4773-1779876000-1779883200@simissionfacility.eu
SUMMARY:FINAL CONFERENCE: CRAFT Project
DESCRIPTION:SIGN UP NOW: FINAL CONFERENCE\nJoin CRAFT’s  final conference and gain access to practical resources designed to strengthen your social innovation initiatives. Participants will have the opportunity to contribute their perspectives and explore how CRAFT’s insights can be applied within their own contexts — whether at the early stages of development or in more advanced phases of implementation. \nPolicymakers and practitioners can expect evidence-based guidance\, concrete tools\, and actionable recommendations to support policy design\, ecosystem development\, and programme delivery. The conference will also provide a platform to connect with a growing community dedicated to advancing social innovation at both local and European levels. \n🗓️ 27 May 2026\n🕒 10:00 CET – 12:00 PM\n📍 Hybrid (online + in-person in Zagreb)\n👉 Sign up now: https://lnkd.in/dPZRtX8g \n  \nAbout CRAFT:\n\n\n\n\n\n\n\nThe Social Innovation Ecosystem Strengthening project (CRAFT) is designed to promote social entrepreneurship and amplify the impact of social and impact-driven initiatives across Europe. The project advances this mission by organising events and summits\, and by developing a digital ecosystem that fosters stronger connections and collaboration among social innovation actors. \nThrough the establishment of a European peer-to-peer academy and the collection of best practices and practical tools\, CRAFT seeks to empower social entrepreneurs and support organisations. By strengthening capacities and facilitating knowledge exchange\, the project contributes to sustainable and systemic change within the European social innovation ecosystem.
URL:https://simissionfacility.eu/event/final-conference-craft-project/
CATEGORIES:Events focusing on Social Innovation
END:VEVENT
BEGIN:VEVENT
DTSTART;VALUE=DATE:20260907
DTEND;VALUE=DATE:20260912
DTSTAMP:20260419T223917
CREATED:20260312T154133Z
LAST-MODIFIED:20260312T154133Z
UID:4805-1788739200-1789171199@simissionfacility.eu
SUMMARY:Save the Date: Soils for Europe Conference 2026 in Coimbra
DESCRIPTION:The Soils for Europe Conference 2026\, a major European gathering on soil research and innovation\, will take place from 7–11 September 2026 in Coimbra\, Portugal. \n  \nCo‑organised by multiple EU Mission Soil projects\, the conference will cover all Mission objectives with cross‑cutting sessions showcasing the latest science\, policy insights and practical solutions for soil health\, sustainable land management and climate resilience. \nOpen to researchers\, practitioners\, policymakers\, land managers and industry stakeholders\, the event also includes a dedicated Living Labs Day to highlight real‑world initiatives from across Europe. Participants can expect rich opportunities for knowledge exchange\, networking and collaboration to advance soil sustainability and innovation in line with European goals. \nFor registration details and programme updates\, visit the official conference website\, here: https://soils4europe.eu/soils-europe-conference-2026
URL:https://simissionfacility.eu/event/save-the-date-soils-for-europe-conference-2026-in-coimbra/
CATEGORIES:Events focusing on EU missions
END:VEVENT
BEGIN:VEVENT
DTSTART;VALUE=DATE:20260914
DTEND;VALUE=DATE:20260919
DTSTAMP:20260419T223917
CREATED:20260417T081138Z
LAST-MODIFIED:20260417T081138Z
UID:4933-1789344000-1789775999@simissionfacility.eu
SUMMARY:JRC Summer School 2026 on the evaluation of air\, soil and water pollution
DESCRIPTION:The European Commission’s Joint Research Centre (JRC) is organising the JRC Summer School 2026 on the evaluation of air\, soil and water pollution in support of the European Green Deal: a holistic approach.\n  \nThis summer school aims to strengthen green skills for a more sustainable and resource-efficient society\, in line with the objectives of the EU Enlargement policy. It contributes to regional economic growth within the framework of the dual green and digital transitions. \nIt is organised in partnership with Goce Delcev University (UGD)\, North Macedonia\, a strategic regional and European partner in research\, innovation and academic excellence. \nGeneral publications3 February 2026 Programme 2026 \nThis training covers key topics related to the evaluation of air\, soil and water quality. Participants will learn how to use JRC tools for emissions and impact assessment\, become familiar with innovative methods to improve water quality and soil health\, and gain insight into advanced measurement techniques. \nThe added value of this event lies in the opportunity to learn directly from JRC experts in air\, soil and water quality\, exchange knowledge and experience with peers from the Western Balkans region (Albania\, Bosnia and Herzegovina\, Kosovo*\, Montenegro\, North Macedonia and Serbia) and expand scientific and professional networks. \nThe Summer School will take place in person over five days and will include lectures by JRC scientists and invited experts\, practical applications and involvement in fieldwork. \n*This designation is without prejudice to positions on status and is in line with UN Security Council Resolution 1244 and the ICJ Opinion on the Kosovo Declaration of Independence. All references to Kosovo\, shall be understood in full compliance with United Nation’s Security Council Resolution 1244 and without prejudice to the status of Kosovo. \nParticipation and certificate \nParticipants are expected to attend the Summer School for its entire duration. Continuous participation is required in order to receive a certificate of attendance and to ensure the overall quality and sustainability of the event . \nHow to apply \nThe application process is open. \n\nApplication deadline: 15 May 2026\nRequired documents:\n\nMotivation statement\nCurriculum vitae\n\n\n\nApplications should be sent to: JRC-summerschool [dot] WB2026ec [dot] europa [dot] eu (JRC-summerschool[dot]WB2026[at]ec[dot]europa[dot]eu) \nSelection criteria \nParticipants will be selected based on: \n\nThe clarity of their motivation to attend\nThe relevance of their CV\n\nApplicants will be informed of the selection results by email by 30 June 2026 \nCosts and logistics \nParticipation in the Summer School is free of charge. Participants are responsible for their travel and accommodation costs. The JRC will provide financial support for the first 10 ranked candidates on the selection list. \nParticipants are encouraged to consider the environmental impact of their travel and\, where possible\, to choose low-emission options. The JRC is committed to organising the Summer School in a green spirit\, minimising food waste\, single-use plastics and paper printing . \nApplications should be sent to: JRC-summerschool.WB2026@ec.europa.eu \n  \nFurther information: https://joint-research-centre.ec.europa.eu/events/jrc-summer-school-2026-evaluation-air-soil-and-water-pollution-2026-09-14_en \n  \n[Source & Credits of the content: EU Agenda Network SL]
URL:https://simissionfacility.eu/event/jrc-summer-school-2026-on-the-evaluation-of-air-soil-and-water-pollution/
CATEGORIES:Events focusing on EU missions
END:VEVENT
BEGIN:VEVENT
DTSTART;VALUE=DATE:20261117
DTEND;VALUE=DATE:20261121
DTSTAMP:20260419T223917
CREATED:20260312T160204Z
LAST-MODIFIED:20260312T160204Z
UID:4811-1794873600-1795219199@simissionfacility.eu
SUMMARY:7th World Conference on Marine Biodiversity 2026 in Bruges
DESCRIPTION:The World Conference on Marine Biodiversity 2026 will take place from 17–20 November 2026 at the Concert Hall Bruges in Bruges\, Belgium. Organised by the Flanders Marine Institute (VLIZ) and endorsed as an official UN Ocean Decade Event\, this seventh edition brings together scientists\, policymakers\, conservationists and industry representatives to advance understanding and solutions for the protection and sustainable management of marine ecosystems worldwide. \n  \nUnder the theme “The marine biodiversity insights we need\, for the ocean we want\,” the conference will feature presentations\, discussions and networking opportunities on emerging research and policy priorities in marine biodiversity conservation. \n  \nRegistration\, abstract submissions and participation details are available on the official World Conference on Marine Biodiversity 2026 website\, here: https://www.wcmb2026.org/
URL:https://simissionfacility.eu/event/7th-world-conference-on-marine-biodiversity-2026-in-bruges/
CATEGORIES:Events focusing on EU missions
END:VEVENT
BEGIN:VEVENT
DTSTART;VALUE=DATE:20261204
DTEND;VALUE=DATE:20261207
DTSTAMP:20260419T223917
CREATED:20260327T105738Z
LAST-MODIFIED:20260327T110017Z
UID:4909-1796342400-1796601599@simissionfacility.eu
SUMMARY:ISIRC 2026
DESCRIPTION:The 18th ISIRC will be held in Asia!\nFor the first time\, the International Social Innovation Research Conference will be held in Asia\, hosted by Duy Tan University in the coastal city of Da Nang. \n\n\nAbout ISIRC\nISIRC brings together practitioners\, policy makers\, and scholars from diverse fields interested in social innovation and entrepreneurship. Invited are scholars from a variety of disciplines – including social work\, management\, technology\, design\, education\, sociology\, psychology\, engineering\, etc. – to join the conference in initiating new debates and developing new solutions to the multiple grand challenges we face. \n\nKey Facts\n\n04-06 December\, 2026\nDa Nang\, Vietnam\nOfficial Website: https://www.isirc2026.org/
URL:https://simissionfacility.eu/event/isirc-2026/
CATEGORIES:Events focusing on Social Innovation
END:VEVENT
END:VCALENDAR