BEGIN:VCALENDAR
VERSION:2.0
PRODID:-//SI Mission Facility - ECPv6.15.17//NONSGML v1.0//EN
CALSCALE:GREGORIAN
METHOD:PUBLISH
X-WR-CALNAME:SI Mission Facility
X-ORIGINAL-URL:https://simissionfacility.eu
X-WR-CALDESC:Events for SI Mission Facility
REFRESH-INTERVAL;VALUE=DURATION:PT1H
X-Robots-Tag:noindex
X-PUBLISHED-TTL:PT1H
BEGIN:VTIMEZONE
TZID:Europe/Vienna
BEGIN:DAYLIGHT
TZOFFSETFROM:+0100
TZOFFSETTO:+0200
TZNAME:CEST
DTSTART:20250330T010000
END:DAYLIGHT
BEGIN:STANDARD
TZOFFSETFROM:+0200
TZOFFSETTO:+0100
TZNAME:CET
DTSTART:20251026T010000
END:STANDARD
BEGIN:DAYLIGHT
TZOFFSETFROM:+0100
TZOFFSETTO:+0200
TZNAME:CEST
DTSTART:20260329T010000
END:DAYLIGHT
BEGIN:STANDARD
TZOFFSETFROM:+0200
TZOFFSETTO:+0100
TZNAME:CET
DTSTART:20261025T010000
END:STANDARD
BEGIN:DAYLIGHT
TZOFFSETFROM:+0100
TZOFFSETTO:+0200
TZNAME:CEST
DTSTART:20270328T010000
END:DAYLIGHT
BEGIN:STANDARD
TZOFFSETFROM:+0200
TZOFFSETTO:+0100
TZNAME:CET
DTSTART:20271031T010000
END:STANDARD
END:VTIMEZONE
BEGIN:VEVENT
DTSTART;VALUE=DATE:20260430
DTEND;VALUE=DATE:20260503
DTSTAMP:20260419T174515
CREATED:20260312T155333Z
LAST-MODIFIED:20260312T155526Z
UID:4808-1777507200-1777766399@simissionfacility.eu
SUMMARY:22nd Annual Social Entrepreneurship Conference 2026 in Lausanne
DESCRIPTION:The 22nd Annual Social Entrepreneurship Conference will take place from 30 April to 2 May 2026 at IMD Business School in Lausanne\, Switzerland. \nHosted by IMD in collaboration with EGADE Business School Tecnológico de Monterrey\, this premier global forum brings together scholars\, practitioners\, students and social innovators to explore the latest research and practice in social entrepreneurship\, impact\, innovation and sustainability. \nThe three‑day programme includes a welcome reception\, a Practitioner‑Researcher Exchange Day and a full research conference featuring keynote speeches\, panel discussions and parallel paper sessions. Participants will have opportunities for knowledge exchange\, networking and engagement with world‑class thought leaders shaping the future of social enterprise and positive societal change. \n  \nFor registration and programme updates\, visit the official conference page\, here: https://www.imd.org/event/social-entrepreneurship/2026-04-30/conference/
URL:https://simissionfacility.eu/event/22nd-annual-social-entrepreneurship-conference-2026-in-lausanne/
CATEGORIES:Events focusing on Social Innovation
END:VEVENT
END:VCALENDAR