BEGIN:VCALENDAR
VERSION:2.0
PRODID:-//SI Mission Facility - ECPv6.15.17//NONSGML v1.0//EN
CALSCALE:GREGORIAN
METHOD:PUBLISH
X-WR-CALNAME:SI Mission Facility
X-ORIGINAL-URL:https://simissionfacility.eu
X-WR-CALDESC:Events for SI Mission Facility
REFRESH-INTERVAL;VALUE=DURATION:PT1H
X-Robots-Tag:noindex
X-PUBLISHED-TTL:PT1H
BEGIN:VTIMEZONE
TZID:Europe/Vienna
BEGIN:DAYLIGHT
TZOFFSETFROM:+0100
TZOFFSETTO:+0200
TZNAME:CEST
DTSTART:20250330T010000
END:DAYLIGHT
BEGIN:STANDARD
TZOFFSETFROM:+0200
TZOFFSETTO:+0100
TZNAME:CET
DTSTART:20251026T010000
END:STANDARD
BEGIN:DAYLIGHT
TZOFFSETFROM:+0100
TZOFFSETTO:+0200
TZNAME:CEST
DTSTART:20260329T010000
END:DAYLIGHT
BEGIN:STANDARD
TZOFFSETFROM:+0200
TZOFFSETTO:+0100
TZNAME:CET
DTSTART:20261025T010000
END:STANDARD
BEGIN:DAYLIGHT
TZOFFSETFROM:+0100
TZOFFSETTO:+0200
TZNAME:CEST
DTSTART:20270328T010000
END:DAYLIGHT
BEGIN:STANDARD
TZOFFSETFROM:+0200
TZOFFSETTO:+0100
TZNAME:CET
DTSTART:20271031T010000
END:STANDARD
END:VTIMEZONE
BEGIN:VEVENT
DTSTART;TZID=Europe/Vienna:20260324T150000
DTEND;TZID=Europe/Vienna:20260324T160000
DTSTAMP:20260419T191745
CREATED:20260224T151321Z
LAST-MODIFIED:20260224T151321Z
UID:4749-1774364400-1774368000@simissionfacility.eu
SUMMARY:Public Release of the Philanthropy in Europe Study 🌟
DESCRIPTION:On 24 March\, the European Research Network on Philanthropy will release the full ERNOP study (open access): \n“Philanthropy in Europe. Mapping Research and Data on Donations by Households\, Bequests\, Corporations\, Foundations and Charity Lotteries in Europe” \nBringing together nearly 50 researchers across 20 European countries\, this volume offers the most comprehensive comparative overview to date of philanthropic giving in Europe. \nThe key message: philanthropy makes a substantial and diverse contribution to European societies — yet its data infrastructure remains uneven and fragmented. At a time of growing expectations toward private initiative\, understanding the scale\, structure\, and limits of philanthropy has never been more important. \n🎥 Join the public webinar | 24 March\, 3–4 PM CET 🎥\nEditors Barry Hoolwerf and Johan Vamstad will present the main insights and discuss implications for research\, policy\, and practice. \nThey will be joined by:\n• S. Sevda Kilicalp\, Ph.D. Kilicalp (Philea – Philanthropy Europe Association)\n• Charlotte Rydh (European Fundraising Association (EFA) / Giva Sverige)\n• Malcolm Fleming (Association of Charity Lotteries in Europe (ACLEU)) \n👉 Registration is free\, but places are limited: https://lnkd.in/deqsCXcm \nMore information about the study:\n🔎 https://lnkd.in/dh4xdmwQ
URL:https://simissionfacility.eu/event/public-release-of-the-philanthropy-in-europe-study-%f0%9f%8c%9f/
CATEGORIES:Events focusing on Social Innovation
END:VEVENT
END:VCALENDAR